0.25
0
0
-0.25
359000.12499
4577499.875
