0.25
0
0
-0.25
354000.12499
4594999.875
