0.25
0
0
-0.25
351500.12499
4567499.875
