0.25
0
0
-0.25
349000.12499
4582499.875
