0.25
0
0
-0.25
346500.12499
4567499.875
