<VRTDataset rasterXSize="395000" rasterYSize="140000"> <SRS dataAxisToSRSAxisMapping="1,2">PROJCS["NAD83 / UTM zone 16N",GEOGCS["NAD83",DATUM["North_American_Datum_1983",SPHEROID["GRS 1980",6378137,298.257222101,AUTHORITY["EPSG","7019"]],AUTHORITY["EPSG","6269"]],PRIMEM["Greenwich",0,AUTHORITY["EPSG","8901"]],UNIT["degree",0.0174532925199433,AUTHORITY["EPSG","9122"]],AUTHORITY["EPSG","4269"]],PROJECTION["Transverse_Mercator"],PARAMETER["latitude_of_origin",0],PARAMETER["central_meridian",-87],PARAMETER["scale_factor",0.9996],PARAMETER["false_easting",500000],PARAMETER["false_northing",0],UNIT["metre",1,AUTHORITY["EPSG","9001"]],AXIS["Easting",EAST],AXIS["Northing",NORTH],AUTHORITY["EPSG","26916"]]</SRS> <GeoTransform> 2.8900000000000000e+05, 2.0000000000000001e-01, 0.0000000000000000e+00, 3.3660000000000000e+06, 0.0000000000000000e+00, -2.0000000000000001e-01</GeoTransform> <VRTRasterBand dataType="Byte" band="1"> <NoDataValue>0</NoDataValue> <ColorInterp>Red</ColorInterp> <ComplexSource> <SourceFilename relativeToVRT="1">./2021_MSCIP_MS_16RCU1564_RGB.tif</SourceFilename> <SourceBand>1</SourceBand> <SourceProperties RasterXSize="5000" RasterYSize="5000" DataType="Byte" BlockXSize="512" BlockYSize="512" /> <SrcRect xOff="0" yOff="0" xSize="5000" ySize="5000" /> <DstRect xOff="130000" yOff="5000" xSize="5000" ySize="5000" /> <NODATA>0</NODATA> </ComplexSource> <ComplexSource> <SourceFilename relativeToVRT="1">./2021_MSCIP_MS_16RCU1662_RGB.tif</SourceFilename> <SourceBand>1</SourceBand> <SourceProperties RasterXSize="5000" RasterYSize="5000" DataType="Byte" BlockXSize="512" BlockYSize="512" /> <SrcRect xOff="0" yOff="0" xSize="5000" ySize="5000" /> <DstRect xOff="135000" yOff="15000" xSize="5000" ySize="5000" /> <NODATA>0</NODATA> </ComplexSource> <ComplexSource> <SourceFilename relativeToVRT="1">./2021_MSCIP_MS_16RCU1663_RGB.tif</SourceFilename> <SourceBand>1</SourceBand> <SourceProperties RasterXSize="5000" RasterYSize="5000" DataType="Byte" BlockXSize="512" BlockYSize="512" /> <SrcRect xOff="0" yOff="0" xSize="5000" ySize="5000" /> <DstRect xOff="135000" yOff="10000" xSize="5000" ySize="5000" /> <NODATA>0</NODATA> </ComplexSource> <ComplexSource> <SourceFilename relativeToVRT="1">./2021_MSCIP_MS_16RCU1664_RGB.tif</SourceFilename> <SourceBand>1</SourceBand> <SourceProperties RasterXSize="5000" RasterYSize="5000" DataType="Byte" BlockXSize="512" BlockYSize="512" /> <SrcRect xOff="0" yOff="0" xSize="5000" ySize="5000" /> <DstRect xOff="135000" yOff="5000" xSize="5000" ySize="5000" /> <NODATA>0</NODATA> </ComplexSource> <ComplexSource> <SourceFilename relativeToVRT="1">./2021_MSCIP_MS_16RCU1665_RGB.tif</SourceFilename> <SourceBand>1</SourceBand> <SourceProperties RasterXSize="5000" RasterYSize="5000" DataType="Byte" BlockXSize="512" BlockYSize="512" /> <SrcRect xOff="0" yOff="0" xSize="5000" ySize="5000" /> <DstRect xOff="135000" yOff="0" xSize="5000" ySize="5000" /> <NODATA>0</NODATA> </ComplexSource> <ComplexSource> <SourceFilename relativeToVRT="1">./2021_MSCIP_MS_16RCU1762_RGB.tif</SourceFilename> <SourceBand>1</SourceBand> <SourceProperties RasterXSize="5000" RasterYSize="5000" DataType="Byte" BlockXSize="512" BlockYSize="512" /> <SrcRect xOff="0" yOff="0" xSize="5000" ySize="5000" /> <DstRect xOff="140000" yOff="15000" xSize="5000" ySize="5000" /> <NODATA>0</NODATA> </ComplexSource> <ComplexSource> <SourceFilename relativeToVRT="1">./2021_MSCIP_MS_16RCU1763_RGB.tif</SourceFilename> <SourceBand>1</SourceBand> <SourceProperties RasterXSize="5000" RasterYSize="5000" DataType="Byte" BlockXSize="512" BlockYSize="512" /> <SrcRect xOff="0" yOff="0" xSize="5000" ySize="5000" /> <DstRect xOff="140000" yOff="10000" xSize="5000" ySize="5000" /> <NODATA>0</NODATA> </ComplexSource> <ComplexSource> <SourceFilename relativeToVRT="1">./2021_MSCIP_MS_16RCU1764_RGB.tif</SourceFilename> <SourceBand>1</SourceBand> <SourceProperties RasterXSize="5000" RasterYSize="5000" DataType="Byte" BlockXSize="512" BlockYSize="512" /> <SrcRect xOff="0" yOff="0" xSize="5000" ySize="5000" /> <DstRect xOff="140000" yOff="5000" xSize="5000" ySize="5000" /> <NODATA>0</NODATA> </ComplexSource> <ComplexSource> <SourceFilename relativeToVRT="1">./2021_MSCIP_MS_16RCU1765_RGB.tif</SourceFilename> <SourceBand>1</SourceBand> <SourceProperties RasterXSize="5000" RasterYSize="5000" DataType="Byte" BlockXSize="512" BlockYSize="512" /> <SrcRect xOff="0" yOff="0" xSize="5000" ySize="5000" /> <DstRect xOff="140000" yOff="0" xSize="5000" ySize="5000" /> <NODATA>0</NODATA> </ComplexSource> <ComplexSource> <SourceFilename relativeToVRT="1">./2021_MSCIP_MS_16RCU1861_RGB.tif</SourceFilename> <SourceBand>1</SourceBand> <SourceProperties RasterXSize="5000" RasterYSize="5000" DataType="Byte" BlockXSize="512" BlockYSize="512" /> <SrcRect xOff="0" yOff="0" xSize="5000" ySize="5000" /> <DstRect xOff="145000" yOff="20000" xSize="5000" ySize="5000" /> <NODATA>0</NODATA> </ComplexSource> <ComplexSource> <SourceFilename relativeToVRT="1">./2021_MSCIP_MS_16RCU1862_RGB.tif</SourceFilename> <SourceBand>1</SourceBand> <SourceProperties RasterXSize="5000" RasterYSize="5000" DataType="Byte" BlockXSize="512" BlockYSize="512" /> <SrcRect xOff="0" yOff="0" xSize="5000" ySize="5000" /> <DstRect xOff="145000" yOff="15000" xSize="5000" ySize="5000" /> <NODATA>0</NODATA> </ComplexSource> <ComplexSource> <SourceFilename relativeToVRT="1">./2021_MSCIP_MS_16RCU1863_RGB.tif</SourceFilename> <SourceBand>1</SourceBand> <SourceProperties RasterXSize="5000" RasterYSize="5000" DataType="Byte" BlockXSize="512" BlockYSize="512" /> <SrcRect xOff="0" yOff="0" xSize="5000" ySize="5000" /> <DstRect xOff="145000" yOff="10000" xSize="5000" ySize="5000" /> <NODATA>0</NODATA> </ComplexSource> <ComplexSource> <SourceFilename relativeToVRT="1">./2021_MSCIP_MS_16RCU1864_RGB.tif</SourceFilename> <SourceBand>1</SourceBand> <SourceProperties RasterXSize="5000" RasterYSize="5000" DataType="Byte" BlockXSize="512" BlockYSize="512" /> <SrcRect xOff="0" yOff="0" xSize="5000" ySize="5000" /> <DstRect xOff="145000" yOff="5000" xSize="5000" ySize="5000" /> <NODATA>0</NODATA> </ComplexSource> <ComplexSource> <SourceFilename relativeToVRT="1">./2021_MSCIP_MS_16RCU1865_RGB.tif</SourceFilename> <SourceBand>1</SourceBand> <SourceProperties RasterXSize="5000" RasterYSize="5000" DataType="Byte" BlockXSize="512" BlockYSize="512" /> <SrcRect xOff="0" yOff="0" xSize="5000" ySize="5000" /> <DstRect xOff="145000" yOff="0" xSize="5000" ySize="5000" /> <NODATA>0</NODATA> </ComplexSource> <ComplexSource> <SourceFilename relativeToVRT="1">./2021_MSCIP_MS_16RCU1961_RGB.tif</SourceFilename> <SourceBand>1</SourceBand> <SourceProperties RasterXSize="5000" RasterYSize="5000" DataType="Byte" BlockXSize="512" BlockYSize="512" /> <SrcRect xOff="0" yOff="0" xSize="5000" ySize="5000" /> <DstRect xOff="150000" yOff="20000" xSize="5000" ySize="5000" /> <NODATA>0</NODATA> </ComplexSource> <ComplexSource> <SourceFilename relativeToVRT="1">./2021_MSCIP_MS_16RCU1962_RGB.tif</SourceFilename> <SourceBand>1</SourceBand> <SourceProperties RasterXSize="5000" RasterYSize="5000" DataType="Byte" BlockXSize="512" BlockYSize="512" /> <SrcRect xOff="0" yOff="0" xSize="5000" ySize="5000" /> <DstRect xOff="150000" yOff="15000" xSize="5000" ySize="5000" /> <NODATA>0</NODATA> </ComplexSource> <ComplexSource> <SourceFilename relativeToVRT="1">./2021_MSCIP_MS_16RCU1963_RGB.tif</SourceFilename> <SourceBand>1</SourceBand> <SourceProperties RasterXSize="5000" RasterYSize="5000" DataType="Byte" BlockXSize="512" BlockYSize="512" /> <SrcRect xOff="0" yOff="0" xSize="5000" ySize="5000" /> <DstRect xOff="150000" yOff="10000" xSize="5000" ySize="5000" /> <NODATA>0</NODATA> </ComplexSource> <ComplexSource> <SourceFilename relativeToVRT="1">./2021_MSCIP_MS_16RCU1964_RGB.tif</SourceFilename> <SourceBand>1</SourceBand> <SourceProperties RasterXSize="5000" RasterYSize="5000" DataType="Byte" BlockXSize="512" BlockYSize="512" /> <SrcRect xOff="0" yOff="0" xSize="5000" ySize="5000" /> <DstRect xOff="150000" yOff="5000" xSize="5000" ySize="5000" /> <NODATA>0</NODATA> </ComplexSource> <ComplexSource> <SourceFilename relativeToVRT="1">./2021_MSCIP_MS_16RCU2060_RGB.tif</SourceFilename> <SourceBand>1</SourceBand> <SourceProperties RasterXSize="5000" RasterYSize="5000" DataType="Byte" BlockXSize="512" BlockYSize="512" /> <SrcRect xOff="0" yOff="0" xSize="5000" ySize="5000" /> <DstRect xOff="155000" yOff="25000" xSize="5000" ySize="5000" /> <NODATA>0</NODATA> </ComplexSource> <ComplexSource> <SourceFilename relativeToVRT="1">./2021_MSCIP_MS_16RBU9546_RGB.tif</SourceFilename> <SourceBand>1</SourceBand> <SourceProperties RasterXSize="5000" RasterYSize="5000" DataType="Byte" BlockXSize="512" BlockYSize="512" /> <SrcRect xOff="0" yOff="0" xSize="5000" ySize="5000" /> <DstRect xOff="30000" yOff="95000" xSize="5000" ySize="5000" /> <NODATA>0</NODATA> </ComplexSource> <ComplexSource> <SourceFilename relativeToVRT="1">./2021_MSCIP_MS_16RCU2061_RGB.tif</SourceFilename> <SourceBand>1</SourceBand> <SourceProperties RasterXSize="5000" RasterYSize="5000" DataType="Byte" BlockXSize="512" BlockYSize="512" /> <SrcRect xOff="0" yOff="0" xSize="5000" ySize="5000" /> <DstRect xOff="155000" yOff="20000" xSize="5000" ySize="5000" /> <NODATA>0</NODATA> </ComplexSource> <ComplexSource> <SourceFilename relativeToVRT="1">./2021_MSCIP_MS_16RBU8944_RGB.tif</SourceFilename> <SourceBand>1</SourceBand> <SourceProperties RasterXSize="5000" RasterYSize="5000" DataType="Byte" BlockXSize="512" BlockYSize="512" /> <SrcRect xOff="0" yOff="0" xSize="5000" ySize="5000" /> <DstRect xOff="0" yOff="105000" xSize="5000" ySize="5000" /> <NODATA>0</NODATA> </ComplexSource> <ComplexSource> <SourceFilename relativeToVRT="1">./2021_MSCIP_MS_16RCU2062_RGB.tif</SourceFilename> <SourceBand>1</SourceBand> <SourceProperties RasterXSize="5000" RasterYSize="5000" DataType="Byte" BlockXSize="512" BlockYSize="512" /> <SrcRect xOff="0" yOff="0" xSize="5000" ySize="5000" /> <DstRect xOff="155000" yOff="15000" xSize="5000" ySize="5000" /> <NODATA>0</NODATA> </ComplexSource> <ComplexSource> <SourceFilename relativeToVRT="1">./2021_MSCIP_MS_16RBU8945_RGB.tif</SourceFilename> <SourceBand>1</SourceBand> <SourceProperties RasterXSize="5000" RasterYSize="5000" DataType="Byte" BlockXSize="512" BlockYSize="512" /> <SrcRect xOff="0" yOff="0" xSize="5000" ySize="5000" /> <DstRect xOff="0" yOff="100000" xSize="5000" ySize="5000" /> <NODATA>0</NODATA> </ComplexSource> <ComplexSource> <SourceFilename relativeToVRT="1">./2021_MSCIP_MS_16RBU8946_RGB.tif</SourceFilename> <SourceBand>1</SourceBand> <SourceProperties RasterXSize="5000" RasterYSize="5000" DataType="Byte" BlockXSize="512" BlockYSize="512" /> <SrcRect xOff="0" yOff="0" xSize="5000" ySize="5000" /> <DstRect xOff="0" yOff="95000" xSize="5000" ySize="5000" /> <NODATA>0</NODATA> </ComplexSource> <ComplexSource> <SourceFilename relativeToVRT="1">./2021_MSCIP_MS_16RBU9043_RGB.tif</SourceFilename> <SourceBand>1</SourceBand> <SourceProperties RasterXSize="5000" RasterYSize="5000" DataType="Byte" BlockXSize="512" BlockYSize="512" /> <SrcRect xOff="0" yOff="0" xSize="5000" ySize="5000" /> <DstRect xOff="5000" yOff="110000" xSize="5000" ySize="5000" /> <NODATA>0</NODATA> </ComplexSource> <ComplexSource> <SourceFilename relativeToVRT="1">./2021_MSCIP_MS_16RCU2063_RGB.tif</SourceFilename> <SourceBand>1</SourceBand> <SourceProperties RasterXSize="5000" RasterYSize="5000" DataType="Byte" BlockXSize="512" BlockYSize="512" /> <SrcRect xOff="0" yOff="0" xSize="5000" ySize="5000" /> <DstRect xOff="155000" yOff="10000" xSize="5000" ySize="5000" /> <NODATA>0</NODATA> </ComplexSource> <ComplexSource> <SourceFilename relativeToVRT="1">./2021_MSCIP_MS_16RBU9044_RGB.tif</SourceFilename> <SourceBand>1</SourceBand> <SourceProperties RasterXSize="5000" RasterYSize="5000" DataType="Byte" BlockXSize="512" BlockYSize="512" /> <SrcRect xOff="0" yOff="0" xSize="5000" ySize="5000" /> <DstRect xOff="5000" yOff="105000" xSize="5000" ySize="5000" /> <NODATA>0</NODATA> </ComplexSource> <ComplexSource> <SourceFilename relativeToVRT="1">./2021_MSCIP_MS_16RBU9045_RGB.tif</SourceFilename> <SourceBand>1</SourceBand> <SourceProperties RasterXSize="5000" RasterYSize="5000" DataType="Byte" BlockXSize="512" BlockYSize="512" /> <SrcRect xOff="0" yOff="0" xSize="5000" ySize="5000" /> <DstRect xOff="5000" yOff="100000" xSize="5000" ySize="5000" /> <NODATA>0</NODATA> </ComplexSource> <ComplexSource> <SourceFilename relativeToVRT="1">./2021_MSCIP_MS_16RBU9046_RGB.tif</SourceFilename> <SourceBand>1</SourceBand> <SourceProperties RasterXSize="5000" RasterYSize="5000" DataType="Byte" BlockXSize="512" BlockYSize="512" /> <SrcRect xOff="0" yOff="0" xSize="5000" ySize="5000" /> <DstRect xOff="5000" yOff="95000" xSize="5000" ySize="5000" /> <NODATA>0</NODATA> </ComplexSource> <ComplexSource> <SourceFilename relativeToVRT="1">./2021_MSCIP_MS_16RCU2064_RGB.tif</SourceFilename> <SourceBand>1</SourceBand> <SourceProperties RasterXSize="5000" RasterYSize="5000" DataType="Byte" BlockXSize="512" BlockYSize="512" /> <SrcRect xOff="0" yOff="0" xSize="5000" ySize="5000" /> <DstRect xOff="155000" yOff="5000" xSize="5000" ySize="5000" /> <NODATA>0</NODATA> </ComplexSource> <ComplexSource> <SourceFilename relativeToVRT="1">./2021_MSCIP_MS_16RBU9047_RGB.tif</SourceFilename> <SourceBand>1</SourceBand> <SourceProperties RasterXSize="5000" RasterYSize="5000" DataType="Byte" BlockXSize="512" BlockYSize="512" /> <SrcRect xOff="0" yOff="0" xSize="5000" ySize="5000" /> <DstRect xOff="5000" yOff="90000" xSize="5000" ySize="5000" /> <NODATA>0</NODATA> </ComplexSource> <ComplexSource> <SourceFilename relativeToVRT="1">./2021_MSCIP_MS_16RBU9143_RGB.tif</SourceFilename> <SourceBand>1</SourceBand> <SourceProperties RasterXSize="5000" RasterYSize="5000" DataType="Byte" BlockXSize="512" BlockYSize="512" /> <SrcRect xOff="0" yOff="0" xSize="5000" ySize="5000" /> <DstRect xOff="10000" yOff="110000" xSize="5000" ySize="5000" /> <NODATA>0</NODATA> </ComplexSource> <ComplexSource> <SourceFilename relativeToVRT="1">./2021_MSCIP_MS_16RBU9144_RGB.tif</SourceFilename> <SourceBand>1</SourceBand> <SourceProperties RasterXSize="5000" RasterYSize="5000" DataType="Byte" BlockXSize="512" BlockYSize="512" /> <SrcRect xOff="0" yOff="0" xSize="5000" ySize="5000" /> <DstRect xOff="10000" yOff="105000" xSize="5000" ySize="5000" /> <NODATA>0</NODATA> </ComplexSource> <ComplexSource> <SourceFilename relativeToVRT="1">./2021_MSCIP_MS_16RCU2160_RGB.tif</SourceFilename> <SourceBand>1</SourceBand> <SourceProperties RasterXSize="5000" RasterYSize="5000" DataType="Byte" BlockXSize="512" BlockYSize="512" /> <SrcRect xOff="0" yOff="0" xSize="5000" ySize="5000" /> <DstRect xOff="160000" yOff="25000" xSize="5000" ySize="5000" /> <NODATA>0</NODATA> </ComplexSource> <ComplexSource> <SourceFilename relativeToVRT="1">./2021_MSCIP_MS_16RBU9145_RGB.tif</SourceFilename> <SourceBand>1</SourceBand> <SourceProperties RasterXSize="5000" RasterYSize="5000" DataType="Byte" BlockXSize="512" BlockYSize="512" /> <SrcRect xOff="0" yOff="0" xSize="5000" ySize="5000" /> <DstRect xOff="10000" yOff="100000" xSize="5000" ySize="5000" /> <NODATA>0</NODATA> </ComplexSource> <ComplexSource> <SourceFilename relativeToVRT="1">./2021_MSCIP_MS_16RBU9146_RGB.tif</SourceFilename> <SourceBand>1</SourceBand> <SourceProperties RasterXSize="5000" RasterYSize="5000" DataType="Byte" BlockXSize="512" BlockYSize="512" /> <SrcRect xOff="0" yOff="0" xSize="5000" ySize="5000" /> <DstRect xOff="10000" yOff="95000" xSize="5000" ySize="5000" /> <NODATA>0</NODATA> </ComplexSource> <ComplexSource> <SourceFilename relativeToVRT="1">./2021_MSCIP_MS_16RBU9147_RGB.tif</SourceFilename> <SourceBand>1</SourceBand> <SourceProperties RasterXSize="5000" RasterYSize="5000" DataType="Byte" BlockXSize="512" BlockYSize="512" /> <SrcRect xOff="0" yOff="0" xSize="5000" ySize="5000" /> <DstRect xOff="10000" yOff="90000" xSize="5000" ySize="5000" /> <NODATA>0</NODATA> </ComplexSource> <ComplexSource> <SourceFilename relativeToVRT="1">./2021_MSCIP_MS_16RCU2161_RGB.tif</SourceFilename> <SourceBand>1</SourceBand> <SourceProperties RasterXSize="5000" RasterYSize="5000" DataType="Byte" BlockXSize="512" BlockYSize="512" /> <SrcRect xOff="0" yOff="0" xSize="5000" ySize="5000" /> <DstRect xOff="160000" yOff="20000" xSize="5000" ySize="5000" /> <NODATA>0</NODATA> </ComplexSource> <ComplexSource> <SourceFilename relativeToVRT="1">./2021_MSCIP_MS_16RBU9243_RGB.tif</SourceFilename> <SourceBand>1</SourceBand> <SourceProperties RasterXSize="5000" RasterYSize="5000" DataType="Byte" BlockXSize="512" BlockYSize="512" /> <SrcRect xOff="0" yOff="0" xSize="5000" ySize="5000" /> <DstRect xOff="15000" yOff="110000" xSize="5000" ySize="5000" /> <NODATA>0</NODATA> </ComplexSource> <ComplexSource> <SourceFilename relativeToVRT="1">./2021_MSCIP_MS_16RBU9244_RGB.tif</SourceFilename> <SourceBand>1</SourceBand> <SourceProperties RasterXSize="5000" RasterYSize="5000" DataType="Byte" BlockXSize="512" BlockYSize="512" /> <SrcRect xOff="0" yOff="0" xSize="5000" ySize="5000" /> <DstRect xOff="15000" yOff="105000" xSize="5000" ySize="5000" /> <NODATA>0</NODATA> </ComplexSource> <ComplexSource> <SourceFilename relativeToVRT="1">./2021_MSCIP_MS_16RBU9245_RGB.tif</SourceFilename> <SourceBand>1</SourceBand> <SourceProperties RasterXSize="5000" RasterYSize="5000" DataType="Byte" BlockXSize="512" BlockYSize="512" /> <SrcRect xOff="0" yOff="0" xSize="5000" ySize="5000" /> <DstRect xOff="15000" yOff="100000" xSize="5000" ySize="5000" /> <NODATA>0</NODATA> </ComplexSource> <ComplexSource> <SourceFilename relativeToVRT="1">./2021_MSCIP_MS_16RCU2162_RGB.tif</SourceFilename> <SourceBand>1</SourceBand> <SourceProperties RasterXSize="5000" RasterYSize="5000" DataType="Byte" BlockXSize="512" BlockYSize="512" /> <SrcRect xOff="0" yOff="0" xSize="5000" ySize="5000" /> <DstRect xOff="160000" yOff="15000" xSize="5000" ySize="5000" /> <NODATA>0</NODATA> </ComplexSource> <ComplexSource> <SourceFilename relativeToVRT="1">./2021_MSCIP_MS_16RBU9246_RGB.tif</SourceFilename> <SourceBand>1</SourceBand> <SourceProperties RasterXSize="5000" RasterYSize="5000" DataType="Byte" BlockXSize="512" BlockYSize="512" /> <SrcRect xOff="0" yOff="0" xSize="5000" ySize="5000" /> <DstRect xOff="15000" yOff="95000" xSize="5000" ySize="5000" /> <NODATA>0</NODATA> </ComplexSource> <ComplexSource> <SourceFilename relativeToVRT="1">./2021_MSCIP_MS_16RBU9247_RGB.tif</SourceFilename> <SourceBand>1</SourceBand> <SourceProperties RasterXSize="5000" RasterYSize="5000" DataType="Byte" BlockXSize="512" BlockYSize="512" /> <SrcRect xOff="0" yOff="0" xSize="5000" ySize="5000" /> <DstRect xOff="15000" yOff="90000" xSize="5000" ySize="5000" /> <NODATA>0</NODATA> </ComplexSource> <ComplexSource> <SourceFilename relativeToVRT="1">./2021_MSCIP_MS_16RBU9342_RGB.tif</SourceFilename> <SourceBand>1</SourceBand> <SourceProperties RasterXSize="5000" RasterYSize="5000" DataType="Byte" BlockXSize="512" BlockYSize="512" /> <SrcRect xOff="0" yOff="0" xSize="5000" ySize="5000" /> <DstRect xOff="20000" yOff="115000" xSize="5000" ySize="5000" /> <NODATA>0</NODATA> </ComplexSource> <ComplexSource> <SourceFilename relativeToVRT="1">./2021_MSCIP_MS_16RCU2163_RGB.tif</SourceFilename> <SourceBand>1</SourceBand> <SourceProperties RasterXSize="5000" RasterYSize="5000" DataType="Byte" BlockXSize="512" BlockYSize="512" /> <SrcRect xOff="0" yOff="0" xSize="5000" ySize="5000" /> <DstRect xOff="160000" yOff="10000" xSize="5000" ySize="5000" /> <NODATA>0</NODATA> </ComplexSource> <ComplexSource> <SourceFilename relativeToVRT="1">./2021_MSCIP_MS_16RBU9343_RGB.tif</SourceFilename> <SourceBand>1</SourceBand> <SourceProperties RasterXSize="5000" RasterYSize="5000" DataType="Byte" BlockXSize="512" BlockYSize="512" /> <SrcRect xOff="0" yOff="0" xSize="5000" ySize="5000" /> <DstRect xOff="20000" yOff="110000" xSize="5000" ySize="5000" /> <NODATA>0</NODATA> </ComplexSource> <ComplexSource> <SourceFilename relativeToVRT="1">./2021_MSCIP_MS_16RBU9344_RGB.tif</SourceFilename> <SourceBand>1</SourceBand> <SourceProperties RasterXSize="5000" RasterYSize="5000" DataType="Byte" BlockXSize="512" BlockYSize="512" /> <SrcRect xOff="0" yOff="0" xSize="5000" ySize="5000" /> <DstRect xOff="20000" yOff="105000" xSize="5000" ySize="5000" /> <NODATA>0</NODATA> </ComplexSource> <ComplexSource> <SourceFilename relativeToVRT="1">./2021_MSCIP_MS_16RBU9345_RGB.tif</SourceFilename> <SourceBand>1</SourceBand> <SourceProperties RasterXSize="5000" RasterYSize="5000" DataType="Byte" BlockXSize="512" BlockYSize="512" /> <SrcRect xOff="0" yOff="0" xSize="5000" ySize="5000" /> <DstRect xOff="20000" yOff="100000" xSize="5000" ySize="5000" /> <NODATA>0</NODATA> </ComplexSource> <ComplexSource> <SourceFilename relativeToVRT="1">./2021_MSCIP_MS_16RBU9346_RGB.tif</SourceFilename> <SourceBand>1</SourceBand> <SourceProperties RasterXSize="5000" RasterYSize="5000" DataType="Byte" BlockXSize="512" BlockYSize="512" /> <SrcRect xOff="0" yOff="0" xSize="5000" ySize="5000" /> <DstRect xOff="20000" yOff="95000" xSize="5000" ySize="5000" /> <NODATA>0</NODATA> </ComplexSource> <ComplexSource> <SourceFilename relativeToVRT="1">./2021_MSCIP_MS_16RCU2259_RGB.tif</SourceFilename> <SourceBand>1</SourceBand> <SourceProperties RasterXSize="5000" RasterYSize="5000" DataType="Byte" BlockXSize="512" BlockYSize="512" /> <SrcRect xOff="0" yOff="0" xSize="5000" ySize="5000" /> <DstRect xOff="165000" yOff="30000" xSize="5000" ySize="5000" /> <NODATA>0</NODATA> </ComplexSource> <ComplexSource> <SourceFilename relativeToVRT="1">./2021_MSCIP_MS_16RBU9347_RGB.tif</SourceFilename> <SourceBand>1</SourceBand> <SourceProperties RasterXSize="5000" RasterYSize="5000" DataType="Byte" BlockXSize="512" BlockYSize="512" /> <SrcRect xOff="0" yOff="0" xSize="5000" ySize="5000" /> <DstRect xOff="20000" yOff="90000" xSize="5000" ySize="5000" /> <NODATA>0</NODATA> </ComplexSource> <ComplexSource> <SourceFilename relativeToVRT="1">./2021_MSCIP_MS_16RBU9348_RGB.tif</SourceFilename> <SourceBand>1</SourceBand> <SourceProperties RasterXSize="5000" RasterYSize="5000" DataType="Byte" BlockXSize="512" BlockYSize="512" /> <SrcRect xOff="0" yOff="0" xSize="5000" ySize="5000" /> <DstRect xOff="20000" yOff="85000" xSize="5000" ySize="5000" /> <NODATA>0</NODATA> </ComplexSource> <ComplexSource> <SourceFilename relativeToVRT="1">./2021_MSCIP_MS_16RBU9441_RGB.tif</SourceFilename> <SourceBand>1</SourceBand> <SourceProperties RasterXSize="5000" RasterYSize="5000" DataType="Byte" BlockXSize="512" BlockYSize="512" /> <SrcRect xOff="0" yOff="0" xSize="5000" ySize="5000" /> <DstRect xOff="25000" yOff="120000" xSize="5000" ySize="5000" /> <NODATA>0</NODATA> </ComplexSource> <ComplexSource> <SourceFilename relativeToVRT="1">./2021_MSCIP_MS_16RCU2260_RGB.tif</SourceFilename> <SourceBand>1</SourceBand> <SourceProperties RasterXSize="5000" RasterYSize="5000" DataType="Byte" BlockXSize="512" BlockYSize="512" /> <SrcRect xOff="0" yOff="0" xSize="5000" ySize="5000" /> <DstRect xOff="165000" yOff="25000" xSize="5000" ySize="5000" /> <NODATA>0</NODATA> </ComplexSource> <ComplexSource> <SourceFilename relativeToVRT="1">./2021_MSCIP_MS_16RBU9442_RGB.tif</SourceFilename> <SourceBand>1</SourceBand> <SourceProperties RasterXSize="5000" RasterYSize="5000" DataType="Byte" BlockXSize="512" BlockYSize="512" /> <SrcRect xOff="0" yOff="0" xSize="5000" ySize="5000" /> <DstRect xOff="25000" yOff="115000" xSize="5000" ySize="5000" /> <NODATA>0</NODATA> </ComplexSource> <ComplexSource> <SourceFilename relativeToVRT="1">./2021_MSCIP_MS_16RBU9443_RGB.tif</SourceFilename> <SourceBand>1</SourceBand> <SourceProperties RasterXSize="5000" RasterYSize="5000" DataType="Byte" BlockXSize="512" BlockYSize="512" /> <SrcRect xOff="0" yOff="0" xSize="5000" ySize="5000" /> <DstRect xOff="25000" yOff="110000" xSize="5000" ySize="5000" /> <NODATA>0</NODATA> </ComplexSource> <ComplexSource> <SourceFilename relativeToVRT="1">./2021_MSCIP_MS_16RBU9444_RGB.tif</SourceFilename> <SourceBand>1</SourceBand> <SourceProperties RasterXSize="5000" RasterYSize="5000" DataType="Byte" BlockX