1
0
-0
-1
1589302.5
2822018.5
