1
0
-0
-1
1638514.5
2805614.5
