1
0
-0
-1
1523686.5
2805614.5
