1.0000000000
0.0000000000
0.0000000000
-1.0000000000
1540090.5000000000
3068078.5000000000
