1.0000000000
0.0000000000
0.0000000000
-1.0000000000
1572898.5000000000
3018866.5000000000
