1.0000000000
0.0000000000
0.0000000000
-1.0000000000
1638514.5000000000
3002462.5000000000
