1
0
-0
-1
1605706.5
3133694.5
