1
0
-0
-1
1589302.5
3100886.5
