1
0
-0
-1
1540090.5
3068078.5
