1
0
-0
-1
1556494.5
3051674.5
