1
0
-0
-1
1654918.5
3002462.5
