1
0
-0
-1
1638514.5
3002462.5
