1.0000000000
0.0000000000
0.0000000000
-1.0000000000
1622110.5000000000
2723594.5000000000
