1.0000000000
0.0000000000
0.0000000000
-1.0000000000
1572898.5000000000
2707190.5000000000
