1.0000000000
0.0000000000
0.0000000000
-1.0000000000
1605706.5000000000
2657978.5000000000
