1
0
-0
-1
1654918.5
2756402.5
