1
0
-0
-1
1523686.5
2756402.5
