1
0
-0
-1
1572898.5
2739998.5
