1
0
-0
-1
1540090.5
2723594.5
