1
0
-0
-1
1654918.5
2690786.5
