1
0
-0
-1
1572898.5
2690786.5
