1
0
-0
-1
1556494.5
2690786.5
