1
0
-0
-1
1507282.5
2674382.5
