1
0
-0
-1
1490878.5
2657978.5
