1.0000000000
0.0000000000
0.0000000000
-1.0000000000
1999402.5000000000
3232118.5000000000
