1.0000000000
0.0000000000
0.0000000000
-1.0000000000
1786150.5000019073
3232118.4999997132
