1.0000000000
0.0000000000
0.0000000000
-1.0000000000
1982998.5000000000
3215714.5000000000
