1.0000000000
0.0000000000
0.0000000000
-1.0000000000
2048614.5000000000
3199310.5000000000
