1.0000000000
0.0000000000
0.0000000000
-1.0000000000
1671322.5000000000
3182906.5000000000
