1.0000000000
0.0000000000
0.0000000000
-1.0000000000
2065018.5000000000
3166502.5000000000
