1.0000000000
0.0000000000
0.0000000000
-1.0000000000
1622110.5000019073
3150098.4999997132
