1.0000000000
0.0000000000
0.0000000000
-1.0000000000
1605706.5000000000
3150098.5000000000
