1
0
-0
-1
1900978.5
3264926.5
