1
0
-0
-1
1884574.5
3264926.5
