1
0
-0
-1
1900978.5
3248522.5
