1
0
-0
-1
1884574.5
3248522.5
