1
0
-0
-1
1851766.5
3232118.5
