1
0
-0
-1
1753342.5000019073
3232118.4999997132
