1
0
-0
-1
1720534.5
3232118.5
