1
0
-0
-1
1982998.5
3215714.5
