1
0
-0
-1
1966594.5
3215714.5
