1
0
-0
-1
1933786.5
3215714.5
