1
0
-0
-1
1671322.5
3215714.5
