1
0
-0
-1
2048614.5
3199310.5
